BEGIN:VCALENDAR
VERSION:2.0
PRODID:-//Squarespace Inc/Squarespace 6//v6//EN
BEGIN:VEVENT
UID:5a74f5fb8165f51a34d92e31@squarespace.com
DTSTAMP:20180426T213121Z
DTSTART:20180501T010000Z
DTEND:20180520T170000Z
SUMMARY:Eden Arts Artists Residency
END:VEVENT
END:VCALENDAR
