BEGIN:VCALENDAR
VERSION:2.0
PRODID:-//Squarespace Inc/Squarespace 6//v6//EN
BEGIN:VEVENT
UID:5f9b2b2cfa21e55ee9ff3f39@squarespace.com
DTSTAMP:20201029T205854Z
DTSTART:20201129T180000Z
DTEND:20201129T210000Z
SUMMARY:Homesale show
END:VEVENT
END:VCALENDAR
