BEGIN:VCALENDAR
VERSION:2.0
PRODID:-//Squarespace Inc/Squarespace 6//v6//EN
BEGIN:VEVENT
UID:5f75499e2b23623907f3933c@squarespace.com
DTSTAMP:20201029T210041Z
DTSTART:20201017T150000Z
DTEND:20201104T200000Z
SUMMARY:Plein Air and More exhibition  Depot Artspace Devonport 17 Oct. to 
 4th Nov.
END:VEVENT
END:VCALENDAR
