BEGIN:VCALENDAR
VERSION:2.0
PRODID:-//Squarespace Inc/Squarespace 6//v6//EN
BEGIN:VEVENT
UID:5a74f9058165f51a34d9e388@squarespace.com
DTSTAMP:20180426T213736Z
DTSTART:20180501T170000Z
DTEND:20180622T110000Z
SUMMARY:Eden Artists Residency at KareKare House
END:VEVENT
END:VCALENDAR
